BEGIN:VCALENDAR
VERSION:2.0
PRODID:icalendar-ruby
CALSCALE:GREGORIAN
BEGIN:VEVENT
DTSTAMP:20260423T092500Z
UID:5630d797-d758-466f-845c-23ebfd8b0271
DTSTART;TZID=Pacific/Auckland:20260425T110000
DTEND;TZID=Pacific/Auckland:20260425T113000
DESCRIPTION:Property ID# 601771
SUMMARY:Openhome for 39 Success Court
END:VEVENT
END:VCALENDAR
